BEGIN:VCALENDAR
VERSION:2.0
PRODID:-//Association El Imane - Mosquée de la Fontaine d&#039;Ouche - ECPv5.3.1.1//NONSGML v1.0//EN
CALSCALE:GREGORIAN
METHOD:PUBLISH
X-WR-CALNAME:Association El Imane - Mosquée de la Fontaine d&#039;Ouche
X-ORIGINAL-URL:http://www.association-el-imane.fr
X-WR-CALDESC:évènements pour Association El Imane - Mosquée de la Fontaine d&#039;Ouche
BEGIN:VTIMEZONE
TZID:UTC
BEGIN:STANDARD
TZOFFSETFROM:+0000
TZOFFSETTO:+0000
TZNAME:UTC
DTSTART:20250101T000000
END:STANDARD
END:VTIMEZONE
BEGIN:VEVENT
DTSTART;TZID=UTC:20250601T215000
DTEND;TZID=UTC:20250601T220000
DTSTAMP:20260419T173016
CREATED:20170713T064922Z
LAST-MODIFIED:20201201T225340Z
UID:299-1748814600-1748815200@www.association-el-imane.fr
SUMMARY:Commentaire de la nuit
DESCRIPTION:Gravida dui donec vel sit elit\, curabitur cras ut iaculis felis augue morbi\, ullamcorper arcu libero quisque posuere semper\, accumsan at per dolor id vitae praesent\, et enim phasellus aliquet. In ipsum fames nisl erat in\, faucibus sed erat vestibulum sit\, egestas sem tempus quisque nam\, velit purus at. Vel etiam nullam quisque per phasellus\, at ut nibh vel sapien magna amet\, odio mollis accumsan ut. In bibendum leo et eu\, nullam euismod vivamus tortor\, wisi odio. Porta porta wisi convallis lacus ante netus\, ut suspendisse pede pellentesque. Ac eos nulla amet\, vehicula odio convallis magna adipiscing amet\, posuere bibendum. Mauris tellus\, nulla urna adipiscing. Turpis wisi ac justo erat placerat luctus\, in justo ultricies nec. At lorem nulla rutrum tellus sed\, pulvinar leo nunc nulla proin\, quis dictumst sit quisque nonummy magna\, ut nunc lectus\, accumsan lacus amet et a fusce vehicula. Eu ut lectus adipiscing conubia\, accumsan ligula\, maecenas ultricies\, justo est\, volutpat proin elit nostra. Congue est laoreet. Wisi sodales.
URL:http://www.association-el-imane.fr/evvenement/nightly-commentary-3/
LOCATION:Salle de Prière\, 1 Allée du Doubs\, dijon\, 21000\, France
ATTACH;FMTTYPE=image/jpeg:http://www.association-el-imane.fr/wp-content/uploads/2017/07/events-2.jpg
ORGANIZER;CN="Association%20El%20Imane":MAILTO:yoursite@example.com
END:VEVENT
END:VCALENDAR